BEGIN:VCALENDAR
VERSION:2.0
PRODID:-//Worcester State University - ECPv6.15.20//NONSGML v1.0//EN
CALSCALE:GREGORIAN
METHOD:PUBLISH
X-WR-CALNAME:Worcester State University
X-ORIGINAL-URL:https://www.worcester.edu
X-WR-CALDESC:Events for Worcester State University
REFRESH-INTERVAL;VALUE=DURATION:PT1H
X-Robots-Tag:noindex
X-PUBLISHED-TTL:PT1H
BEGIN:VTIMEZONE
TZID:America/New_York
BEGIN:DAYLIGHT
TZOFFSETFROM:-0500
TZOFFSETTO:-0400
TZNAME:EDT
DTSTART:20250309T070000
END:DAYLIGHT
BEGIN:STANDARD
TZOFFSETFROM:-0400
TZOFFSETTO:-0500
TZNAME:EST
DTSTART:20251102T060000
END:STANDARD
BEGIN:DAYLIGHT
TZOFFSETFROM:-0500
TZOFFSETTO:-0400
TZNAME:EDT
DTSTART:20260308T070000
END:DAYLIGHT
BEGIN:STANDARD
TZOFFSETFROM:-0400
TZOFFSETTO:-0500
TZNAME:EST
DTSTART:20261101T060000
END:STANDARD
BEGIN:DAYLIGHT
TZOFFSETFROM:-0500
TZOFFSETTO:-0400
TZNAME:EDT
DTSTART:20270314T070000
END:DAYLIGHT
BEGIN:STANDARD
TZOFFSETFROM:-0400
TZOFFSETTO:-0500
TZNAME:EST
DTSTART:20271107T060000
END:STANDARD
END:VTIMEZONE
BEGIN:VEVENT
DTSTART;TZID=America/New_York:20260211T100000
DTEND;TZID=America/New_York:20260211T120000
DTSTAMP:20260425T222258
CREATED:20251213T215408Z
LAST-MODIFIED:20260130T131659Z
UID:41615-1770804000-1770811200@www.worcester.edu
SUMMARY:Senate Table
DESCRIPTION:Organization: STUDENT GOVERNMENT ASSOCIATION/SENATEEvent Locator: 2025-AATAHF
URL:https://www.worcester.edu/event/senate-table-30/
LOCATION:C*102\, Student Center\, Left Side of the Ramp\, First Floor
CATEGORIES:Student Involvement,Student Involvement Event Calendar
END:VEVENT
BEGIN:VEVENT
DTSTART;TZID=America/New_York:20260211T110000
DTEND;TZID=America/New_York:20260211T140000
DTSTAMP:20260425T222258
CREATED:20251213T215408Z
LAST-MODIFIED:20260211T163305Z
UID:41616-1770807600-1770818400@www.worcester.edu
SUMMARY:BSU Fundraiser
DESCRIPTION:Organization: BLACK STUDENT UNIONEvent Locator: 2025-AATAHB \nBake Sale
URL:https://www.worcester.edu/event/bsu-fundraiser/
LOCATION:Student Center\, Lancer's Loft\, C*315\, Third Floor
CATEGORIES:Student Involvement,Student Involvement Event Calendar
END:VEVENT
BEGIN:VEVENT
DTSTART;TZID=America/New_York:20260211T120000
DTEND;TZID=America/New_York:20260211T133000
DTSTAMP:20260425T222258
CREATED:20260130T130901Z
LAST-MODIFIED:20260211T163305Z
UID:42357-1770811200-1770816600@www.worcester.edu
SUMMARY:Wednesday Adoration/Mass
DESCRIPTION:Organization: Newman ClubEvent Locator: 2026-AATKHW
URL:https://www.worcester.edu/event/wednesday-adoration-mass-2/
LOCATION:Sheehan Residence Hall\, Multipurpose Room\, SRH*109\, First Floor
CATEGORIES:Student Involvement,Student Involvement Event Calendar
END:VEVENT
BEGIN:VEVENT
DTSTART;TZID=America/New_York:20260211T170000
DTEND;TZID=America/New_York:20260211T190000
DTSTAMP:20260425T222258
CREATED:20260124T105605Z
LAST-MODIFIED:20260211T163305Z
UID:42264-1770829200-1770836400@www.worcester.edu
SUMMARY:SEC & CAB Flower Day and Crafts
DESCRIPTION:Organization: STUDENT EVENTS COMMITTEEEvent Locator: 2025-AATAJM
URL:https://www.worcester.edu/event/sec-cab-flower-day-and-crafts/
LOCATION:Student Center\, Exhibit Area\, C*120\, First Floor
CATEGORIES:Student Involvement,Student Involvement Event Calendar
END:VEVENT
BEGIN:VEVENT
DTSTART;TZID=America/New_York:20260211T173000
DTEND;TZID=America/New_York:20260211T193000
DTSTAMP:20260425T222258
CREATED:20250816T194334Z
LAST-MODIFIED:20260211T014331Z
UID:39006-1770831000-1770838200@www.worcester.edu
SUMMARY:Women's Basketball vs Framingham State
DESCRIPTION:Organization: ATH – WOMENS BASKETBALLEvent Locator: 2025-AASZRD
URL:https://www.worcester.edu/event/womens-basketball-vs-framingham-state/
LOCATION:Wellness Center\, Competition Gymnasium\, WELL*112\, First Floor
CATEGORIES:WSU Game/Meet
END:VEVENT
BEGIN:VEVENT
DTSTART;TZID=America/New_York:20260211T193000
DTEND;TZID=America/New_York:20260211T213000
DTSTAMP:20260425T222258
CREATED:20250816T194334Z
LAST-MODIFIED:20260212T020335Z
UID:39007-1770838200-1770845400@www.worcester.edu
SUMMARY:Men's Basketball vs Framingham State
DESCRIPTION:Organization: ATH – MENS BASKETBALLEvent Locator: 2025-AASZRF
URL:https://www.worcester.edu/event/mens-basketball-vs-framingham-state/
LOCATION:Wellness Center\, Competition Gymnasium\, WELL*112\, First Floor
CATEGORIES:WSU Game/Meet
END:VEVENT
END:VCALENDAR