BEGIN:VCALENDAR
VERSION:2.0
PRODID:-//Worcester State University - ECPv6.15.20//NONSGML v1.0//EN
CALSCALE:GREGORIAN
METHOD:PUBLISH
X-WR-CALNAME:Worcester State University
X-ORIGINAL-URL:https://www.worcester.edu
X-WR-CALDESC:Events for Worcester State University
REFRESH-INTERVAL;VALUE=DURATION:PT1H
X-Robots-Tag:noindex
X-PUBLISHED-TTL:PT1H
BEGIN:VTIMEZONE
TZID:America/New_York
BEGIN:DAYLIGHT
TZOFFSETFROM:-0500
TZOFFSETTO:-0400
TZNAME:EDT
DTSTART:20250309T070000
END:DAYLIGHT
BEGIN:STANDARD
TZOFFSETFROM:-0400
TZOFFSETTO:-0500
TZNAME:EST
DTSTART:20251102T060000
END:STANDARD
BEGIN:DAYLIGHT
TZOFFSETFROM:-0500
TZOFFSETTO:-0400
TZNAME:EDT
DTSTART:20260308T070000
END:DAYLIGHT
BEGIN:STANDARD
TZOFFSETFROM:-0400
TZOFFSETTO:-0500
TZNAME:EST
DTSTART:20261101T060000
END:STANDARD
BEGIN:DAYLIGHT
TZOFFSETFROM:-0500
TZOFFSETTO:-0400
TZNAME:EDT
DTSTART:20270314T070000
END:DAYLIGHT
BEGIN:STANDARD
TZOFFSETFROM:-0400
TZOFFSETTO:-0500
TZNAME:EST
DTSTART:20271107T060000
END:STANDARD
END:VTIMEZONE
BEGIN:VEVENT
DTSTART;VALUE=DATE:20260423
DTEND;VALUE=DATE:20260517
DTSTAMP:20260424T053236
CREATED:20260410T130423Z
LAST-MODIFIED:20260410T131420Z
UID:43953-1776902400-1778975999@www.worcester.edu
SUMMARY:Thesis 26: An Exhibition Celebrating WSU Art Majors
DESCRIPTION:Thesis 26 honors our Art majors becoming artists. After a year of bold risk-taking and relentless making\, each student presents a body of work showcasing their unique artistic voice and rooted in the idea\, topic\, or question of their choosing. Come see the start of what’s next for these accomplished artists! \nGallery Hours: \nWed-Fri 11 am – 5 pm\nSat 1-5 pm \nor by appointment \nJoin us for the public opening reception!\nThursday\, April 23\n4-7 pm at the MCD Gallery
URL:https://www.worcester.edu/event/thesis-26-an-exhibition-celebrating-wsu-art-majors/
LOCATION:Mary Cosgrove Dolphin Gallery\, Ghosh Science and Technology Center
END:VEVENT
BEGIN:VEVENT
DTSTART;TZID=America/New_York:20260423T160000
DTEND;TZID=America/New_York:20260423T190000
DTSTAMP:20260424T053236
CREATED:20260410T130855Z
LAST-MODIFIED:20260410T131457Z
UID:43955-1776960000-1776970800@www.worcester.edu
SUMMARY:Opening Reception for Thesis 26: An Exhibition Celebrating WSU Art Majors
DESCRIPTION:Join us for the public opening reception and be among the first to experience the start of what’s next for these accomplished artists! \nThesis 26 honors our Art majors becoming artists. After a year of bold risk-taking and relentless making\, each student presents a body of work showcasing their unique artistic voice and rooted in the idea\, topic\, or question of their choosing. Come see the start of what’s next for these accomplished artists! \nExhibition on view through May 16 \n\nGallery Hours:\nWed–Fri: 11 AM–5 PM\nSat: 1–5 PM\nOr by appointment
URL:https://www.worcester.edu/event/opening-reception-for-thesis-26-an-exhibition-celebrating-wsu-art-majors/
LOCATION:Mary Cosgrove Dolphin Gallery\, Ghosh Science and Technology Center
END:VEVENT
BEGIN:VEVENT
DTSTART;TZID=America/New_York:20260423T170000
DTEND;TZID=America/New_York:20260423T200000
DTSTAMP:20260424T053236
CREATED:20260317T014157Z
LAST-MODIFIED:20260423T110316Z
UID:43356-1776963600-1776974400@www.worcester.edu
SUMMARY:Fashion Club Meetings
DESCRIPTION:Organization: Fashion ClubEvent Locator: 2026-AATLTG
URL:https://www.worcester.edu/event/fashion-club-meetings-4/
LOCATION:Learning Resource Center\, Room 114\, General Classroom\, First Floor
CATEGORIES:Student Involvement,Student Involvement Event Calendar
END:VEVENT
BEGIN:VEVENT
DTSTART;TZID=America/New_York:20260423T170000
DTEND;TZID=America/New_York:20260423T213000
DTSTAMP:20260424T053236
CREATED:20251026T081356Z
LAST-MODIFIED:20260423T110316Z
UID:40696-1776963600-1776979800@www.worcester.edu
SUMMARY:Games Club Game Night
DESCRIPTION:Organization: GAMES CLUBEvent Locator: 2025-AATCQS
URL:https://www.worcester.edu/event/games-club-game-night-23/
LOCATION:Student Center\, Lancer's Loft\, C*315\, Third Floor
CATEGORIES:Student Involvement,Student Involvement Event Calendar
END:VEVENT
BEGIN:VEVENT
DTSTART;TZID=America/New_York:20260423T180000
DTEND;TZID=America/New_York:20260423T200000
DTSTAMP:20260424T053236
CREATED:20260402T054308Z
LAST-MODIFIED:20260423T110316Z
UID:43719-1776967200-1776974400@www.worcester.edu
SUMMARY:ISA Multicultural Show
DESCRIPTION:Organization: INTERCULTURAL STUDENT ALLIANCEEvent Locator: 2026-AATKXF
URL:https://www.worcester.edu/event/isa-multicultural-show/
LOCATION:Student Center\, Blue Lounge\, C*101\, First Floor\, Student Center\, Exhibit Area\, C*120\, First Floor
CATEGORIES:Student Involvement,Student Involvement Event Calendar
END:VEVENT
BEGIN:VEVENT
DTSTART;TZID=America/New_York:20260423T193000
DTEND;TZID=America/New_York:20260423T193000
DTSTAMP:20260424T053236
CREATED:20260413T124448Z
LAST-MODIFIED:20260413T125415Z
UID:43998-1776972600-1776972600@www.worcester.edu
SUMMARY:house/less: an immersive experience
DESCRIPTION:Worcester State University and the Visual and Performing Arts Department present\nhouse/less\nan immersive experience \nFor many of us\, our experience of homelessness is singular: it’s the uncomfortable feeling we get when someone on the street asks us for money. Rarely do we have the opportunity to understand it from the perspectives of those living through it. house/less is based on the oral histories of individuals experiencing homelessness\, which the company drew on to shape the characters\, stories\, and physical environment of the play. A highly collaborative project\, students and faculty from the Visual and Performing Arts\, Communication\, and Urban Studies departments worked to create a piece of theatre that invites us to see\, hear\, and understand homelessness more fully.\n \n\nApril 23\, 24 & 25 at 7:30 PM\nApril 26 at 2:00 PM\n\n \nFuller Theater\nAdmin Building\, 2nd Floor\n \nTicket prices:\n$7 students\n$10 seniors\n$15 general admission\n \nTicket link: https://www.eventbrite.com/e/worcester-state-theatre-presents-houseless-an-immersive-experience-tickets-1985821794444?aff=oddtdtcreator
URL:https://www.worcester.edu/event/house-less-an-immersive-experience/
LOCATION:Fuller Theater Stage
END:VEVENT
END:VCALENDAR