BEGIN:VCALENDAR
VERSION:2.0
PRODID:-//Worcester State University - ECPv6.15.20//NONSGML v1.0//EN
CALSCALE:GREGORIAN
METHOD:PUBLISH
X-ORIGINAL-URL:https://www.worcester.edu
X-WR-CALDESC:Events for Worcester State University
REFRESH-INTERVAL;VALUE=DURATION:PT1H
X-Robots-Tag:noindex
X-PUBLISHED-TTL:PT1H
BEGIN:VTIMEZONE
TZID:America/New_York
BEGIN:DAYLIGHT
TZOFFSETFROM:-0500
TZOFFSETTO:-0400
TZNAME:EDT
DTSTART:20250309T070000
END:DAYLIGHT
BEGIN:STANDARD
TZOFFSETFROM:-0400
TZOFFSETTO:-0500
TZNAME:EST
DTSTART:20251102T060000
END:STANDARD
BEGIN:DAYLIGHT
TZOFFSETFROM:-0500
TZOFFSETTO:-0400
TZNAME:EDT
DTSTART:20260308T070000
END:DAYLIGHT
BEGIN:STANDARD
TZOFFSETFROM:-0400
TZOFFSETTO:-0500
TZNAME:EST
DTSTART:20261101T060000
END:STANDARD
BEGIN:DAYLIGHT
TZOFFSETFROM:-0500
TZOFFSETTO:-0400
TZNAME:EDT
DTSTART:20270314T070000
END:DAYLIGHT
BEGIN:STANDARD
TZOFFSETFROM:-0400
TZOFFSETTO:-0500
TZNAME:EST
DTSTART:20271107T060000
END:STANDARD
END:VTIMEZONE
BEGIN:VEVENT
DTSTART;VALUE=DATE:20260423
DTEND;VALUE=DATE:20260517
DTSTAMP:20260420T033003
CREATED:20260410T130423Z
LAST-MODIFIED:20260410T131420Z
UID:43953-1776902400-1778975999@www.worcester.edu
SUMMARY:Thesis 26: An Exhibition Celebrating WSU Art Majors
DESCRIPTION:Thesis 26 honors our Art majors becoming artists. After a year of bold risk-taking and relentless making\, each student presents a body of work showcasing their unique artistic voice and rooted in the idea\, topic\, or question of their choosing. Come see the start of what’s next for these accomplished artists! \nGallery Hours: \nWed-Fri 11 am – 5 pm\nSat 1-5 pm \nor by appointment \nJoin us for the public opening reception!\nThursday\, April 23\n4-7 pm at the MCD Gallery
URL:https://www.worcester.edu/event/thesis-26-an-exhibition-celebrating-wsu-art-majors/
LOCATION:Mary Cosgrove Dolphin Gallery\, Ghosh Science and Technology Center
END:VEVENT
BEGIN:VEVENT
DTSTART;VALUE=DATE:20260516
DTEND;VALUE=DATE:20260517
DTSTAMP:20260420T033003
CREATED:20240613T173118Z
LAST-MODIFIED:20241009T171649Z
UID:28349-1778889600-1778975999@www.worcester.edu
SUMMARY:Undergraduate Commencement
DESCRIPTION:
URL:https://www.worcester.edu/event/undergraduate-commencement-4/
END:VEVENT
END:VCALENDAR