BEGIN:VCALENDAR
VERSION:2.0
PRODID:-//Worcester State University - ECPv6.15.20//NONSGML v1.0//EN
CALSCALE:GREGORIAN
METHOD:PUBLISH
X-ORIGINAL-URL:https://www.worcester.edu
X-WR-CALDESC:Events for Worcester State University
REFRESH-INTERVAL;VALUE=DURATION:PT1H
X-Robots-Tag:noindex
X-PUBLISHED-TTL:PT1H
BEGIN:VTIMEZONE
TZID:America/New_York
BEGIN:DAYLIGHT
TZOFFSETFROM:-0500
TZOFFSETTO:-0400
TZNAME:EDT
DTSTART:20250309T070000
END:DAYLIGHT
BEGIN:STANDARD
TZOFFSETFROM:-0400
TZOFFSETTO:-0500
TZNAME:EST
DTSTART:20251102T060000
END:STANDARD
BEGIN:DAYLIGHT
TZOFFSETFROM:-0500
TZOFFSETTO:-0400
TZNAME:EDT
DTSTART:20260308T070000
END:DAYLIGHT
BEGIN:STANDARD
TZOFFSETFROM:-0400
TZOFFSETTO:-0500
TZNAME:EST
DTSTART:20261101T060000
END:STANDARD
BEGIN:DAYLIGHT
TZOFFSETFROM:-0500
TZOFFSETTO:-0400
TZNAME:EDT
DTSTART:20270314T070000
END:DAYLIGHT
BEGIN:STANDARD
TZOFFSETFROM:-0400
TZOFFSETTO:-0500
TZNAME:EST
DTSTART:20271107T060000
END:STANDARD
END:VTIMEZONE
BEGIN:VEVENT
DTSTART;TZID=America/New_York:20260326T140000
DTEND;TZID=America/New_York:20260326T150000
DTSTAMP:20260420T173208
CREATED:20260324T170347Z
LAST-MODIFIED:20260324T202004Z
UID:43503-1774533600-1774537200@www.worcester.edu
SUMMARY:4+1 M.S in Management Information Session
DESCRIPTION:Join the Business Administration and Economics Department for our “4+1 M.S in Management” Information Session Thursday\, March 26th from 2:00pm-3:00pm. Speak with Faculty and current students and enter our raffle for a chance at a prize. Light refreshments will be served.
URL:https://www.worcester.edu/event/41-m-s-in-management-information-session/
LOCATION:Sullivan s209
CATEGORIES:academics
ATTACH;FMTTYPE=image/png:https://www.worcester.edu/wp-content/uploads/2026/03/Info-session-Flyer-SP26-1.png
END:VEVENT
END:VCALENDAR