BEGIN:VCALENDAR
VERSION:2.0
PRODID:-//Worcester State University - ECPv6.15.20//NONSGML v1.0//EN
CALSCALE:GREGORIAN
METHOD:PUBLISH
X-WR-CALNAME:Worcester State University
X-ORIGINAL-URL:https://www.worcester.edu
X-WR-CALDESC:Events for Worcester State University
REFRESH-INTERVAL;VALUE=DURATION:PT1H
X-Robots-Tag:noindex
X-PUBLISHED-TTL:PT1H
BEGIN:VTIMEZONE
TZID:America/New_York
BEGIN:DAYLIGHT
TZOFFSETFROM:-0500
TZOFFSETTO:-0400
TZNAME:EDT
DTSTART:20230312T070000
END:DAYLIGHT
BEGIN:STANDARD
TZOFFSETFROM:-0400
TZOFFSETTO:-0500
TZNAME:EST
DTSTART:20231105T060000
END:STANDARD
BEGIN:DAYLIGHT
TZOFFSETFROM:-0500
TZOFFSETTO:-0400
TZNAME:EDT
DTSTART:20240310T070000
END:DAYLIGHT
BEGIN:STANDARD
TZOFFSETFROM:-0400
TZOFFSETTO:-0500
TZNAME:EST
DTSTART:20241103T060000
END:STANDARD
BEGIN:DAYLIGHT
TZOFFSETFROM:-0500
TZOFFSETTO:-0400
TZNAME:EDT
DTSTART:20250309T070000
END:DAYLIGHT
BEGIN:STANDARD
TZOFFSETFROM:-0400
TZOFFSETTO:-0500
TZNAME:EST
DTSTART:20251102T060000
END:STANDARD
END:VTIMEZONE
BEGIN:VEVENT
DTSTART;TZID=America/New_York:20241030T170000
DTEND;TZID=America/New_York:20241030T190000
DTSTAMP:20260425T214837
CREATED:20240924T021518Z
LAST-MODIFIED:20241030T121639Z
UID:31173-1730307600-1730314800@www.worcester.edu
SUMMARY:Criminal Justice Bingo
DESCRIPTION:Organization: CRIMINAL JUSTICE CLUBEvent Locator: 2024-AASFTA
URL:https://www.worcester.edu/event/criminal-justice-bingo/
LOCATION:Student Center\, Blue Lounge\, C*101\, First Floor
CATEGORIES:Student Involvement,Student Involvement Event Calendar
END:VEVENT
BEGIN:VEVENT
DTSTART;TZID=America/New_York:20241030T170000
DTEND;TZID=America/New_York:20241030T190000
DTSTAMP:20260425T214837
CREATED:20241018T085915Z
LAST-MODIFIED:20241030T121640Z
UID:31876-1730307600-1730314800@www.worcester.edu
SUMMARY:SEC Octoberfest Event 10.30
DESCRIPTION:Organization: STUDENT EVENTS COMMITTEEEvent Locator: 2024-AASFTB
URL:https://www.worcester.edu/event/sec-octoberfest-event-10-30/
LOCATION:Student Center\, Foster Room\, C*318\, Third Floor\, Student Center\, Lancer's Loft\, C*315\, Third Floor
CATEGORIES:Student Involvement,Student Involvement Event Calendar
END:VEVENT
END:VCALENDAR