BEGIN:VCALENDAR
VERSION:2.0
PRODID:-//Worcester State University - ECPv6.15.20//NONSGML v1.0//EN
CALSCALE:GREGORIAN
METHOD:PUBLISH
X-ORIGINAL-URL:https://www.worcester.edu
X-WR-CALDESC:Events for Worcester State University
REFRESH-INTERVAL;VALUE=DURATION:PT1H
X-Robots-Tag:noindex
X-PUBLISHED-TTL:PT1H
BEGIN:VTIMEZONE
TZID:America/New_York
BEGIN:DAYLIGHT
TZOFFSETFROM:-0500
TZOFFSETTO:-0400
TZNAME:EDT
DTSTART:20210314T070000
END:DAYLIGHT
BEGIN:STANDARD
TZOFFSETFROM:-0400
TZOFFSETTO:-0500
TZNAME:EST
DTSTART:20211107T060000
END:STANDARD
BEGIN:DAYLIGHT
TZOFFSETFROM:-0500
TZOFFSETTO:-0400
TZNAME:EDT
DTSTART:20220313T070000
END:DAYLIGHT
BEGIN:STANDARD
TZOFFSETFROM:-0400
TZOFFSETTO:-0500
TZNAME:EST
DTSTART:20221106T060000
END:STANDARD
BEGIN:DAYLIGHT
TZOFFSETFROM:-0500
TZOFFSETTO:-0400
TZNAME:EDT
DTSTART:20230312T070000
END:DAYLIGHT
BEGIN:STANDARD
TZOFFSETFROM:-0400
TZOFFSETTO:-0500
TZNAME:EST
DTSTART:20231105T060000
END:STANDARD
END:VTIMEZONE
BEGIN:VEVENT
DTSTART;TZID=America/New_York:20221101T160000
DTEND;TZID=America/New_York:20221101T173000
DTSTAMP:20260419T190804
CREATED:20220602T013949Z
LAST-MODIFIED:20221027T214816Z
UID:8575-1667318400-1667323800@www.worcester.edu
SUMMARY:Field Hockey Playoffs
DESCRIPTION:Organization: ATH – FIELD HOCKEY
URL:https://www.worcester.edu/event/field-hockey-playoffs/
LOCATION:John Coughlin Stadium\, North Campus
CATEGORIES:Game/Meet,WSU Game/Meet
END:VEVENT
BEGIN:VEVENT
DTSTART;TZID=America/New_York:20221101T190000
DTEND;TZID=America/New_York:20221101T210000
DTSTAMP:20260419T190804
CREATED:20220602T013950Z
LAST-MODIFIED:20221027T214816Z
UID:8576-1667329200-1667336400@www.worcester.edu
SUMMARY:Soccer Playoffs
DESCRIPTION:Organization: ATH – WOMENS SOCCER
URL:https://www.worcester.edu/event/soccer-playoffs/
LOCATION:John Coughlin Stadium\, North Campus
CATEGORIES:Game/Meet,WSU Game/Meet
END:VEVENT
BEGIN:VEVENT
DTSTART;TZID=America/New_York:20221101T190000
DTEND;TZID=America/New_York:20221101T210000
DTSTAMP:20260419T190804
CREATED:20220602T013950Z
LAST-MODIFIED:20221027T214817Z
UID:8577-1667329200-1667336400@www.worcester.edu
SUMMARY:Volleyball Playoffs
DESCRIPTION:Organization: ATH – VOLLEYBALL
URL:https://www.worcester.edu/event/volleyball-playoffs/
LOCATION:Wellness Center\, Competition Gymnasium\, WELL*112\, First Floor
CATEGORIES:Game/Meet,WSU Game/Meet
END:VEVENT
END:VCALENDAR