BEGIN:VCALENDAR
VERSION:2.0
PRODID:-//Worcester State University - ECPv6.15.20//NONSGML v1.0//EN
CALSCALE:GREGORIAN
METHOD:PUBLISH
X-ORIGINAL-URL:https://www.worcester.edu
X-WR-CALDESC:Events for Worcester State University
REFRESH-INTERVAL;VALUE=DURATION:PT1H
X-Robots-Tag:noindex
X-PUBLISHED-TTL:PT1H
BEGIN:VTIMEZONE
TZID:America/New_York
BEGIN:DAYLIGHT
TZOFFSETFROM:-0500
TZOFFSETTO:-0400
TZNAME:EDT
DTSTART:20240310T070000
END:DAYLIGHT
BEGIN:STANDARD
TZOFFSETFROM:-0400
TZOFFSETTO:-0500
TZNAME:EST
DTSTART:20241103T060000
END:STANDARD
BEGIN:DAYLIGHT
TZOFFSETFROM:-0500
TZOFFSETTO:-0400
TZNAME:EDT
DTSTART:20250309T070000
END:DAYLIGHT
BEGIN:STANDARD
TZOFFSETFROM:-0400
TZOFFSETTO:-0500
TZNAME:EST
DTSTART:20251102T060000
END:STANDARD
BEGIN:DAYLIGHT
TZOFFSETFROM:-0500
TZOFFSETTO:-0400
TZNAME:EDT
DTSTART:20260308T070000
END:DAYLIGHT
BEGIN:STANDARD
TZOFFSETFROM:-0400
TZOFFSETTO:-0500
TZNAME:EST
DTSTART:20261101T060000
END:STANDARD
END:VTIMEZONE
BEGIN:VEVENT
DTSTART;TZID=America/New_York:20250212T173000
DTEND;TZID=America/New_York:20250212T193000
DTSTAMP:20260420T030113
CREATED:20240818T025322Z
LAST-MODIFIED:20250212T143133Z
UID:29830-1739381400-1739388600@www.worcester.edu
SUMMARY:Men's Basketball v Bridgewater
DESCRIPTION:Organization: ATH – MENS BASKETBALLEvent Locator: 2024-AASCXS
URL:https://www.worcester.edu/event/mens-basketball-v-bridgewater-3/
LOCATION:Wellness Center\, Competition Gymnasium\, WELL*112\, First Floor
CATEGORIES:WSU Game/Meet
END:VEVENT
BEGIN:VEVENT
DTSTART;TZID=America/New_York:20250212T193000
DTEND;TZID=America/New_York:20250212T213000
DTSTAMP:20260420T030113
CREATED:20240818T025323Z
LAST-MODIFIED:20250212T143133Z
UID:29831-1739388600-1739395800@www.worcester.edu
SUMMARY:Women's Basketball v Bridgewater
DESCRIPTION:Organization: ATH – WOMENS BASKETBALLEvent Locator: 2024-AASCXT
URL:https://www.worcester.edu/event/womens-basketball-v-bridgewater-3/
LOCATION:Wellness Center\, Competition Gymnasium\, WELL*112\, First Floor
CATEGORIES:WSU Game/Meet
END:VEVENT
END:VCALENDAR