BEGIN:VCALENDAR
VERSION:2.0
PRODID:-//Worcester State University - ECPv6.15.20//NONSGML v1.0//EN
CALSCALE:GREGORIAN
METHOD:PUBLISH
X-WR-CALNAME:Worcester State University
X-ORIGINAL-URL:https://www.worcester.edu
X-WR-CALDESC:Events for Worcester State University
REFRESH-INTERVAL;VALUE=DURATION:PT1H
X-Robots-Tag:noindex
X-PUBLISHED-TTL:PT1H
BEGIN:VTIMEZONE
TZID:America/New_York
BEGIN:DAYLIGHT
TZOFFSETFROM:-0500
TZOFFSETTO:-0400
TZNAME:EDT
DTSTART:20240310T070000
END:DAYLIGHT
BEGIN:STANDARD
TZOFFSETFROM:-0400
TZOFFSETTO:-0500
TZNAME:EST
DTSTART:20241103T060000
END:STANDARD
BEGIN:DAYLIGHT
TZOFFSETFROM:-0500
TZOFFSETTO:-0400
TZNAME:EDT
DTSTART:20250309T070000
END:DAYLIGHT
BEGIN:STANDARD
TZOFFSETFROM:-0400
TZOFFSETTO:-0500
TZNAME:EST
DTSTART:20251102T060000
END:STANDARD
BEGIN:DAYLIGHT
TZOFFSETFROM:-0500
TZOFFSETTO:-0400
TZNAME:EDT
DTSTART:20260308T070000
END:DAYLIGHT
BEGIN:STANDARD
TZOFFSETFROM:-0400
TZOFFSETTO:-0500
TZNAME:EST
DTSTART:20261101T060000
END:STANDARD
END:VTIMEZONE
BEGIN:VEVENT
DTSTART;TZID=America/New_York:20250513T000000
DTEND;TZID=America/New_York:20250513T000000
DTSTAMP:20260421T014733
CREATED:20241115T131744Z
LAST-MODIFIED:20250512T163131Z
UID:32802-1747094400-1747094400@www.worcester.edu
SUMMARY:Final Exams
DESCRIPTION:Event Title: Final ExamsOrganization: REGISTRARS OFFICEEvent Locator: 2024-AASGQF
URL:https://www.worcester.edu/event/final-exams-41/
CATEGORIES:WSU Published Event Calendar
END:VEVENT
BEGIN:VEVENT
DTSTART;TZID=America/New_York:20250514T000000
DTEND;TZID=America/New_York:20250514T000000
DTSTAMP:20260421T014733
CREATED:20241116T134420Z
LAST-MODIFIED:20250513T163835Z
UID:32828-1747180800-1747180800@www.worcester.edu
SUMMARY:Final Exams
DESCRIPTION:Event Title: Final ExamsOrganization: REGISTRARS OFFICEEvent Locator: 2024-AASGQF
URL:https://www.worcester.edu/event/final-exams-42/
CATEGORIES:WSU Published Event Calendar
END:VEVENT
BEGIN:VEVENT
DTSTART;TZID=America/New_York:20250515T000000
DTEND;TZID=America/New_York:20250515T000000
DTSTAMP:20260421T014733
CREATED:20241117T140206Z
LAST-MODIFIED:20250514T165011Z
UID:32842-1747267200-1747267200@www.worcester.edu
SUMMARY:Final Exams
DESCRIPTION:Event Title: Final ExamsOrganization: REGISTRARS OFFICEEvent Locator: 2024-AASGQF
URL:https://www.worcester.edu/event/final-exams-43/
CATEGORIES:WSU Published Event Calendar
END:VEVENT
BEGIN:VEVENT
DTSTART;TZID=America/New_York:20250516T000000
DTEND;TZID=America/New_York:20250516T000000
DTSTAMP:20260421T014733
CREATED:20241118T141438Z
LAST-MODIFIED:20250515T170847Z
UID:32857-1747353600-1747353600@www.worcester.edu
SUMMARY:Final Exams
DESCRIPTION:Event Title: Final ExamsOrganization: REGISTRARS OFFICEEvent Locator: 2024-AASGQF
URL:https://www.worcester.edu/event/final-exams-44/
CATEGORIES:WSU Published Event Calendar
END:VEVENT
BEGIN:VEVENT
DTSTART;TZID=America/New_York:20250517T000000
DTEND;TZID=America/New_York:20250517T000000
DTSTAMP:20260421T014733
CREATED:20241119T143200Z
LAST-MODIFIED:20250516T173124Z
UID:32912-1747440000-1747440000@www.worcester.edu
SUMMARY:Undergraduate Commencement
DESCRIPTION:Event Title: Undergraduate CommencementOrganization: REGISTRARS OFFICEEvent Locator: 2024-AASGNN
URL:https://www.worcester.edu/event/undergraduate-commencement-6/
CATEGORIES:WSU Published Event Calendar
END:VEVENT
BEGIN:VEVENT
DTSTART;TZID=America/New_York:20250527T000000
DTEND;TZID=America/New_York:20250527T000000
DTSTAMP:20260421T014733
CREATED:20241129T170242Z
LAST-MODIFIED:20250520T183700Z
UID:33111-1748304000-1748304000@www.worcester.edu
SUMMARY:Final Grades for Spring 2025
DESCRIPTION:Event Title: Final Grades for Spring 2025Organization: REGISTRARS OFFICEEvent Locator: 2024-AASGQG
URL:https://www.worcester.edu/event/final-grades-for-spring-2025/
CATEGORIES:WSU Published Event Calendar
END:VEVENT
END:VCALENDAR