BEGIN:VCALENDAR
VERSION:2.0
PRODID:-//Worcester State University - ECPv6.15.20//NONSGML v1.0//EN
CALSCALE:GREGORIAN
METHOD:PUBLISH
X-WR-CALNAME:Worcester State University
X-ORIGINAL-URL:https://www.worcester.edu
X-WR-CALDESC:Events for Worcester State University
REFRESH-INTERVAL;VALUE=DURATION:PT1H
X-Robots-Tag:noindex
X-PUBLISHED-TTL:PT1H
BEGIN:VTIMEZONE
TZID:America/New_York
BEGIN:DAYLIGHT
TZOFFSETFROM:-0500
TZOFFSETTO:-0400
TZNAME:EDT
DTSTART:20250309T070000
END:DAYLIGHT
BEGIN:STANDARD
TZOFFSETFROM:-0400
TZOFFSETTO:-0500
TZNAME:EST
DTSTART:20251102T060000
END:STANDARD
BEGIN:DAYLIGHT
TZOFFSETFROM:-0500
TZOFFSETTO:-0400
TZNAME:EDT
DTSTART:20260308T070000
END:DAYLIGHT
BEGIN:STANDARD
TZOFFSETFROM:-0400
TZOFFSETTO:-0500
TZNAME:EST
DTSTART:20261101T060000
END:STANDARD
BEGIN:DAYLIGHT
TZOFFSETFROM:-0500
TZOFFSETTO:-0400
TZNAME:EDT
DTSTART:20270314T070000
END:DAYLIGHT
BEGIN:STANDARD
TZOFFSETFROM:-0400
TZOFFSETTO:-0500
TZNAME:EST
DTSTART:20271107T060000
END:STANDARD
END:VTIMEZONE
BEGIN:VEVENT
DTSTART;VALUE=DATE:20260423
DTEND;VALUE=DATE:20260517
DTSTAMP:20260420T145311
CREATED:20260410T130423Z
LAST-MODIFIED:20260410T131420Z
UID:43953-1776902400-1778975999@www.worcester.edu
SUMMARY:Thesis 26: An Exhibition Celebrating WSU Art Majors
DESCRIPTION:Thesis 26 honors our Art majors becoming artists. After a year of bold risk-taking and relentless making\, each student presents a body of work showcasing their unique artistic voice and rooted in the idea\, topic\, or question of their choosing. Come see the start of what’s next for these accomplished artists! \nGallery Hours: \nWed-Fri 11 am – 5 pm\nSat 1-5 pm \nor by appointment \nJoin us for the public opening reception!\nThursday\, April 23\n4-7 pm at the MCD Gallery
URL:https://www.worcester.edu/event/thesis-26-an-exhibition-celebrating-wsu-art-majors/
LOCATION:Mary Cosgrove Dolphin Gallery\, Ghosh Science and Technology Center
END:VEVENT
BEGIN:VEVENT
DTSTART;VALUE=DATE:20260516
DTEND;VALUE=DATE:20260517
DTSTAMP:20260420T145311
CREATED:20240613T173118Z
LAST-MODIFIED:20241009T171649Z
UID:28349-1778889600-1778975999@www.worcester.edu
SUMMARY:Undergraduate Commencement
DESCRIPTION:
URL:https://www.worcester.edu/event/undergraduate-commencement-4/
END:VEVENT
BEGIN:VEVENT
DTSTART;VALUE=DATE:20260522
DTEND;VALUE=DATE:20260523
DTSTAMP:20260420T145311
CREATED:20240613T173138Z
LAST-MODIFIED:20240613T173138Z
UID:28351-1779408000-1779494399@www.worcester.edu
SUMMARY:Final Grades for Spring 2026 due in the Registrar’s Office
DESCRIPTION:
URL:https://www.worcester.edu/event/final-grades-for-spring-2026-due-in-the-registrars-office/
END:VEVENT
BEGIN:VEVENT
DTSTART;VALUE=DATE:20260901
DTEND;VALUE=DATE:20260902
DTSTAMP:20260420T145311
CREATED:20240613T173613Z
LAST-MODIFIED:20240613T173613Z
UID:28353-1788220800-1788307199@www.worcester.edu
SUMMARY:Pre-College Conference
DESCRIPTION:
URL:https://www.worcester.edu/event/pre-college-conference/
END:VEVENT
BEGIN:VEVENT
DTSTART;VALUE=DATE:20260901
DTEND;VALUE=DATE:20260902
DTSTAMP:20260420T145311
CREATED:20240613T173637Z
LAST-MODIFIED:20240613T173637Z
UID:28355-1788220800-1788307199@www.worcester.edu
SUMMARY:Academic Convocation
DESCRIPTION:
URL:https://www.worcester.edu/event/academic-convocation/
END:VEVENT
BEGIN:VEVENT
DTSTART;VALUE=DATE:20260902
DTEND;VALUE=DATE:20260903
DTSTAMP:20260420T145311
CREATED:20240613T173704Z
LAST-MODIFIED:20240613T173704Z
UID:28357-1788307200-1788393599@www.worcester.edu
SUMMARY:Classes begin: day\, evening\, graduate
DESCRIPTION:
URL:https://www.worcester.edu/event/classes-begin-day-evening-graduate-9/
END:VEVENT
BEGIN:VEVENT
DTSTART;VALUE=DATE:20260907
DTEND;VALUE=DATE:20260908
DTSTAMP:20260420T145311
CREATED:20240613T173732Z
LAST-MODIFIED:20240613T173732Z
UID:28359-1788739200-1788825599@www.worcester.edu
SUMMARY:Labor Day: NO CLASSES
DESCRIPTION:
URL:https://www.worcester.edu/event/labor-day-no-classes-5/
END:VEVENT
BEGIN:VEVENT
DTSTART;VALUE=DATE:20260908
DTEND;VALUE=DATE:20260909
DTSTAMP:20260420T145311
CREATED:20240613T173813Z
LAST-MODIFIED:20240613T173813Z
UID:28361-1788825600-1788911999@www.worcester.edu
SUMMARY:Last day to add day courses (state-supported)
DESCRIPTION:
URL:https://www.worcester.edu/event/last-day-to-add-day-courses-state-supported-5/
END:VEVENT
BEGIN:VEVENT
DTSTART;TZID=America/New_York:20260908T180000
DTEND;TZID=America/New_York:20260908T200000
DTSTAMP:20260420T145311
CREATED:20260313T094105Z
LAST-MODIFIED:20260319T114306Z
UID:43244-1788890400-1788897600@www.worcester.edu
SUMMARY:Volleyball vs RIC
DESCRIPTION:Organization: ATH – VOLLEYBALLEvent Locator: 2025-AATHSH
URL:https://www.worcester.edu/event/volleyball-vs-ric/
LOCATION:Wellness Center\, Competition Gymnasium\, WELL*112\, First Floor\, Wellness Center\, Track\, Second Floor
CATEGORIES:WSU Game/Meet
END:VEVENT
BEGIN:VEVENT
DTSTART;TZID=America/New_York:20260910T180000
DTEND;TZID=America/New_York:20260910T200000
DTSTAMP:20260420T145311
CREATED:20260317T105326Z
LAST-MODIFIED:20260319T114306Z
UID:43366-1789063200-1789070400@www.worcester.edu
SUMMARY:Volleyball vs Suffolk
DESCRIPTION:Organization: ATH – VOLLEYBALLEvent Locator: 2025-AATHSK
URL:https://www.worcester.edu/event/volleyball-vs-suffolk/
LOCATION:Wellness Center\, Competition Gymnasium\, WELL*112\, First Floor\, Wellness Center\, Track\, Second Floor
CATEGORIES:WSU Game/Meet
END:VEVENT
BEGIN:VEVENT
DTSTART;VALUE=DATE:20260915
DTEND;VALUE=DATE:20260916
DTSTAMP:20260420T145311
CREATED:20240613T173851Z
LAST-MODIFIED:20240613T173851Z
UID:28363-1789430400-1789516799@www.worcester.edu
SUMMARY:Last day to drop day courses (state-supported)
DESCRIPTION:
URL:https://www.worcester.edu/event/last-day-to-drop-day-courses-state-supported-5/
END:VEVENT
BEGIN:VEVENT
DTSTART;VALUE=DATE:20260915
DTEND;VALUE=DATE:20260916
DTSTAMP:20260420T145311
CREATED:20240613T173935Z
LAST-MODIFIED:20240613T173935Z
UID:28365-1789430400-1789516799@www.worcester.edu
SUMMARY:Last day to add/drop evening/graduate courses (non state-supported)
DESCRIPTION:
URL:https://www.worcester.edu/event/last-day-to-add-drop-evening-graduate-courses-non-state-supported-5/
END:VEVENT
BEGIN:VEVENT
DTSTART;VALUE=DATE:20260916
DTEND;VALUE=DATE:20260917
DTSTAMP:20260420T145311
CREATED:20240613T174003Z
LAST-MODIFIED:20240613T174003Z
UID:28367-1789516800-1789603199@www.worcester.edu
SUMMARY:Unity Day: University Activities
DESCRIPTION:
URL:https://www.worcester.edu/event/unity-day-university-activities-5/
END:VEVENT
BEGIN:VEVENT
DTSTART;VALUE=DATE:20261012
DTEND;VALUE=DATE:20261013
DTSTAMP:20260420T145311
CREATED:20240613T174034Z
LAST-MODIFIED:20240613T174034Z
UID:28369-1791763200-1791849599@www.worcester.edu
SUMMARY:Indigenous Peoples’ Day: NO CLASSES
DESCRIPTION:
URL:https://www.worcester.edu/event/indigenous-peoples-day-no-classes-6/
END:VEVENT
BEGIN:VEVENT
DTSTART;VALUE=DATE:20261014
DTEND;VALUE=DATE:20261015
DTSTAMP:20260420T145311
CREATED:20240613T174101Z
LAST-MODIFIED:20240613T174101Z
UID:28371-1791936000-1792022399@www.worcester.edu
SUMMARY:Last day to make up Incomplete grades from Spring/Summer 2026
DESCRIPTION:
URL:https://www.worcester.edu/event/last-day-to-make-up-incomplete-grades-from-spring-summer-2026/
END:VEVENT
BEGIN:VEVENT
DTSTART;VALUE=DATE:20261021
DTEND;VALUE=DATE:20261022
DTSTAMP:20260420T145311
CREATED:20240613T174150Z
LAST-MODIFIED:20240613T174150Z
UID:28373-1792540800-1792627199@www.worcester.edu
SUMMARY:Failure warnings due in the Registrar’s Office
DESCRIPTION:
URL:https://www.worcester.edu/event/failure-warnings-due-in-the-registrars-office-5/
END:VEVENT
BEGIN:VEVENT
DTSTART;VALUE=DATE:20261022
DTEND;VALUE=DATE:20261023
DTSTAMP:20260420T145311
CREATED:20240613T174222Z
LAST-MODIFIED:20240613T174222Z
UID:28375-1792627200-1792713599@www.worcester.edu
SUMMARY:Last day to declare/change major/minor
DESCRIPTION:
URL:https://www.worcester.edu/event/last-day-to-declare-change-major-minor-7/
END:VEVENT
BEGIN:VEVENT
DTSTART;VALUE=DATE:20261026
DTEND;VALUE=DATE:20261027
DTSTAMP:20260420T145311
CREATED:20240613T174248Z
LAST-MODIFIED:20240613T174248Z
UID:28377-1792972800-1793059199@www.worcester.edu
SUMMARY:Failure Warnings issued to students
DESCRIPTION:
URL:https://www.worcester.edu/event/failure-warnings-issued-to-students-10/
END:VEVENT
BEGIN:VEVENT
DTSTART;VALUE=DATE:20261102
DTEND;VALUE=DATE:20261114
DTSTAMP:20260420T145311
CREATED:20240613T174330Z
LAST-MODIFIED:20240613T174330Z
UID:28379-1793577600-1794614399@www.worcester.edu
SUMMARY:Advising for Pre-registration
DESCRIPTION:
URL:https://www.worcester.edu/event/advising-for-pre-registration-29/
END:VEVENT
BEGIN:VEVENT
DTSTART;VALUE=DATE:20261102
DTEND;VALUE=DATE:20261103
DTSTAMP:20260420T145311
CREATED:20240613T174407Z
LAST-MODIFIED:20240613T174407Z
UID:28381-1793577600-1793663999@www.worcester.edu
SUMMARY:Last day to withdraw from courses/university
DESCRIPTION:
URL:https://www.worcester.edu/event/last-day-to-withdraw-from-courses-university-5/
END:VEVENT
BEGIN:VEVENT
DTSTART;VALUE=DATE:20261109
DTEND;VALUE=DATE:20261110
DTSTAMP:20260420T145311
CREATED:20240613T174446Z
LAST-MODIFIED:20240613T174446Z
UID:28383-1794182400-1794268799@www.worcester.edu
SUMMARY:Last day to elect Pass/Fail option
DESCRIPTION:
URL:https://www.worcester.edu/event/last-day-to-elect-pass-fail-option-7/
END:VEVENT
BEGIN:VEVENT
DTSTART;VALUE=DATE:20261111
DTEND;VALUE=DATE:20261112
DTSTAMP:20260420T145311
CREATED:20240613T174513Z
LAST-MODIFIED:20240613T174513Z
UID:28385-1794355200-1794441599@www.worcester.edu
SUMMARY:Veterans’ Day: NO CLASSES
DESCRIPTION:
URL:https://www.worcester.edu/event/veterans-day-no-classes-6/
END:VEVENT
BEGIN:VEVENT
DTSTART;VALUE=DATE:20261116
DTEND;VALUE=DATE:20261121
DTSTAMP:20260420T145311
CREATED:20240613T174544Z
LAST-MODIFIED:20240613T174544Z
UID:28387-1794787200-1795219199@www.worcester.edu
SUMMARY:Pre-registration for Spring 2027
DESCRIPTION:
URL:https://www.worcester.edu/event/pre-registration-for-spring-2027/
END:VEVENT
BEGIN:VEVENT
DTSTART;VALUE=DATE:20261125
DTEND;VALUE=DATE:20261129
DTSTAMP:20260420T145311
CREATED:20240613T174629Z
LAST-MODIFIED:20240613T174629Z
UID:28389-1795564800-1795910399@www.worcester.edu
SUMMARY:Thanksgiving Recess: NO CLASSES
DESCRIPTION:
URL:https://www.worcester.edu/event/thanksgiving-recess-no-classes-7/
END:VEVENT
BEGIN:VEVENT
DTSTART;VALUE=DATE:20261203
DTEND;VALUE=DATE:20261204
DTSTAMP:20260420T145311
CREATED:20240613T174829Z
LAST-MODIFIED:20240613T174829Z
UID:28391-1796256000-1796342399@www.worcester.edu
SUMMARY:Student evaluation of the faculty due
DESCRIPTION:
URL:https://www.worcester.edu/event/student-evaluation-of-the-faculty-due-7/
END:VEVENT
BEGIN:VEVENT
DTSTART;VALUE=DATE:20261207
DTEND;VALUE=DATE:20261208
DTSTAMP:20260420T145311
CREATED:20240613T174852Z
LAST-MODIFIED:20240613T174852Z
UID:28393-1796601600-1796687999@www.worcester.edu
SUMMARY:All classes end
DESCRIPTION:
URL:https://www.worcester.edu/event/all-classes-end-10/
END:VEVENT
BEGIN:VEVENT
DTSTART;VALUE=DATE:20261208
DTEND;VALUE=DATE:20261209
DTSTAMP:20260420T145311
CREATED:20240613T174919Z
LAST-MODIFIED:20240613T174919Z
UID:28395-1796688000-1796774399@www.worcester.edu
SUMMARY:Reading Day
DESCRIPTION:
URL:https://www.worcester.edu/event/reading-day-10/
END:VEVENT
BEGIN:VEVENT
DTSTART;VALUE=DATE:20261209
DTEND;VALUE=DATE:20261210
DTSTAMP:20260420T145311
CREATED:20240613T175022Z
LAST-MODIFIED:20240613T175022Z
UID:28397-1796774400-1796860799@www.worcester.edu
SUMMARY:Professional Development Day
DESCRIPTION:
URL:https://www.worcester.edu/event/professional-development-day-9/
END:VEVENT
BEGIN:VEVENT
DTSTART;VALUE=DATE:20261210
DTEND;VALUE=DATE:20261219
DTSTAMP:20260420T145311
CREATED:20240613T175050Z
LAST-MODIFIED:20240613T175050Z
UID:28399-1796860800-1797638399@www.worcester.edu
SUMMARY:Final Exams
DESCRIPTION:
URL:https://www.worcester.edu/event/final-exams-25/
END:VEVENT
BEGIN:VEVENT
DTSTART;VALUE=DATE:20261221
DTEND;VALUE=DATE:20261223
DTSTAMP:20260420T145311
CREATED:20240613T175119Z
LAST-MODIFIED:20240613T175119Z
UID:28401-1797811200-1797983999@www.worcester.edu
SUMMARY:Make-up days for exams postponed due to inclement weather
DESCRIPTION:
URL:https://www.worcester.edu/event/make-up-days-for-exams-postponed-due-to-inclement-weather-4/
END:VEVENT
END:VCALENDAR