BEGIN:VCALENDAR
VERSION:2.0
PRODID:-//Worcester State University - ECPv6.15.20//NONSGML v1.0//EN
CALSCALE:GREGORIAN
METHOD:PUBLISH
X-ORIGINAL-URL:https://www.worcester.edu
X-WR-CALDESC:Events for Worcester State University
REFRESH-INTERVAL;VALUE=DURATION:PT1H
X-Robots-Tag:noindex
X-PUBLISHED-TTL:PT1H
BEGIN:VTIMEZONE
TZID:America/New_York
BEGIN:DAYLIGHT
TZOFFSETFROM:-0500
TZOFFSETTO:-0400
TZNAME:EDT
DTSTART:20240310T070000
END:DAYLIGHT
BEGIN:STANDARD
TZOFFSETFROM:-0400
TZOFFSETTO:-0500
TZNAME:EST
DTSTART:20241103T060000
END:STANDARD
BEGIN:DAYLIGHT
TZOFFSETFROM:-0500
TZOFFSETTO:-0400
TZNAME:EDT
DTSTART:20250309T070000
END:DAYLIGHT
BEGIN:STANDARD
TZOFFSETFROM:-0400
TZOFFSETTO:-0500
TZNAME:EST
DTSTART:20251102T060000
END:STANDARD
BEGIN:DAYLIGHT
TZOFFSETFROM:-0500
TZOFFSETTO:-0400
TZNAME:EDT
DTSTART:20260308T070000
END:DAYLIGHT
BEGIN:STANDARD
TZOFFSETFROM:-0400
TZOFFSETTO:-0500
TZNAME:EST
DTSTART:20261101T060000
END:STANDARD
END:VTIMEZONE
BEGIN:VEVENT
DTSTART;VALUE=DATE:20250801
DTEND;VALUE=DATE:20250802
DTSTAMP:20260423T001541
CREATED:20250522T175736Z
LAST-MODIFIED:20250522T175736Z
UID:37019-1754006400-1754092799@www.worcester.edu
SUMMARY:Last day to Withdraw or request Pass/Fail (Summer II)
DESCRIPTION:
URL:https://www.worcester.edu/event/last-day-to-withdraw-or-request-pass-fail-summer-ii-2/
END:VEVENT
BEGIN:VEVENT
DTSTART;TZID=America/New_York:20250815T073000
DTEND;TZID=America/New_York:20250815T163000
DTSTAMP:20260423T001541
CREATED:20250813T112311Z
LAST-MODIFIED:20250815T121314Z
UID:38939-1755243000-1755275400@www.worcester.edu
SUMMARY:Parent/Guardian Orientation
DESCRIPTION:Organization: STUDENT INVOLVEMENT AND LEADERSHIP DEV.Event Locator: 2025-AASVGB
URL:https://www.worcester.edu/event/parent-guardian-orientation-2/
LOCATION:Student Center\, Blue Lounge\, C*101\, First Floor\, Student Center\, Exhibit Area\, C*120\, First Floor\, Student Center\, North South Room\, C*112\, First Floor
CATEGORIES:Student Involvement,Student Involvement Event Calendar
END:VEVENT
BEGIN:VEVENT
DTSTART;TZID=America/New_York:20250824T100000
DTEND;TZID=America/New_York:20250824T160000
DTSTAMP:20260423T001541
CREATED:20250731T152443Z
LAST-MODIFIED:20250823T214656Z
UID:38721-1756029600-1756051200@www.worcester.edu
SUMMARY:Volleyball Scrimmage - Hold
DESCRIPTION:Organization: ATH – VOLLEYBALLEvent Locator: 2025-AATBTH
URL:https://www.worcester.edu/event/volleyball-scrimmage-hold-2/
LOCATION:Wellness Center\, Competition Gymnasium\, WELL*112\, First Floor
CATEGORIES:WSU Game/Meet
END:VEVENT
BEGIN:VEVENT
DTSTART;TZID=America/New_York:20250825T110000
DTEND;TZID=America/New_York:20250825T120000
DTSTAMP:20260423T001541
CREATED:20250823T141057Z
LAST-MODIFIED:20250825T144947Z
UID:39172-1756119600-1756123200@www.worcester.edu
SUMMARY:Thea's Pantry Birthday Bash
DESCRIPTION:Organization: STUDENT INVOLVEMENT AND LEADERSHIP DEV.Event Locator: 2025-AATCHK
URL:https://www.worcester.edu/event/theas-pantry-birthday-bash/
LOCATION:Student Center\, Lancer's Loft\, C*315\, Third Floor
CATEGORIES:Student Involvement,Student Involvement Event Calendar
END:VEVENT
BEGIN:VEVENT
DTSTART;TZID=America/New_York:20250826T083000
DTEND;TZID=America/New_York:20250826T120000
DTSTAMP:20260423T001541
CREATED:20250814T114147Z
LAST-MODIFIED:20250826T150404Z
UID:38954-1756197000-1756209600@www.worcester.edu
SUMMARY:Transfer Orientation
DESCRIPTION:Organization: STUDENT INVOLVEMENT AND LEADERSHIP DEV.Event Locator: 2025-AASVGF
URL:https://www.worcester.edu/event/transfer-orientation-3/
LOCATION:Student Center\, Blue Lounge\, C*101\, First Floor\, Student Center\, Exhibit Area\, C*120\, First Floor\, Student Center\, North South Room\, C*112\, First Floor
CATEGORIES:Student Involvement,Student Involvement Event Calendar
END:VEVENT
BEGIN:VEVENT
DTSTART;TZID=America/New_York:20250829T150000
DTEND;TZID=America/New_York:20250829T170000
DTSTAMP:20260423T001541
CREATED:20250415T084424Z
LAST-MODIFIED:20250828T230155Z
UID:36196-1756479600-1756486800@www.worcester.edu
SUMMARY:Men's Soccer vs WPI
DESCRIPTION:Organization: ATH – MENS SOCCEREvent Locator: 2025-AASZJT
URL:https://www.worcester.edu/event/mens-soccer-vs-wpi/
LOCATION:John Coughlin Stadium\, North Campus
CATEGORIES:WSU Game/Meet
END:VEVENT
BEGIN:VEVENT
DTSTART;VALUE=DATE:20250831
DTEND;VALUE=DATE:20250901
DTSTAMP:20260423T001541
CREATED:20250522T175301Z
LAST-MODIFIED:20250522T175301Z
UID:37001-1756598400-1756684799@www.worcester.edu
SUMMARY:Full Summer Session (14 weeks) Ends
DESCRIPTION:
URL:https://www.worcester.edu/event/full-summer-session-14-weeks-ends/
END:VEVENT
BEGIN:VEVENT
DTSTART;VALUE=DATE:20250831
DTEND;VALUE=DATE:20250901
DTSTAMP:20260423T001541
CREATED:20250522T175810Z
LAST-MODIFIED:20250522T175810Z
UID:37021-1756598400-1756684799@www.worcester.edu
SUMMARY:Summer Session II Ends
DESCRIPTION:
URL:https://www.worcester.edu/event/summer-session-ii-ends-2/
END:VEVENT
BEGIN:VEVENT
DTSTART;VALUE=DATE:20250831
DTEND;VALUE=DATE:20250901
DTSTAMP:20260423T001541
CREATED:20250522T175833Z
LAST-MODIFIED:20250522T175833Z
UID:37023-1756598400-1756684799@www.worcester.edu
SUMMARY:End of Summer Semester
DESCRIPTION:
URL:https://www.worcester.edu/event/end-of-summer-semester/
END:VEVENT
END:VCALENDAR